BEGIN:VCALENDAR
PRODID:-//eluceo/ical//2.0/EN
VERSION:2.0
CALSCALE:GREGORIAN
BEGIN:VEVENT
UID:2233d3c1dac877d37a23ea240edef011
DTSTAMP:20260424T102330Z
SUMMARY:Sounds in the Sanctuary
DESCRIPTION:Jewish Federation of New Hampshire\nCommunity Calendar\nhttps:/
 /jewishnh.org/community-calendar/sounds-in-the-sanctuary28\n\nPresenting o
 ur 10th Season of outstanding performances by nationally and international
 ly acclaimed artists.\n\n\n \n\nTICKETS: $20 BHC Members\, $25 General Ad
 mission\; Season Pass: $60 BHC Members\, $75 General Admission Available a
 t the door or at tickets.catamountarts.org. Program details and informatio
 n: bethlehemsynagogue.org/concert-series-2023
DTSTART;TZID=America/New_York:20230728T170000
DTEND;TZID=America/New_York:20230728T190000
END:VEVENT
END:VCALENDAR
