BEGIN:VCALENDAR
PRODID:-//eluceo/ical//2.0/EN
VERSION:2.0
CALSCALE:GREGORIAN
BEGIN:VEVENT
UID:cf8f35d1cd2848179ab9bb9dc74e50eb
DTSTAMP:20260422T135031Z
SUMMARY:Southern New Hampshire Jewish Men’s Club Annual Children’s Brea
 kfast
DESCRIPTION:Jewish Federation of New Hampshire\nCommunity Calendar\nhttps:/
 /jewishnh.org/community-calendar/southern-new-hampshire-jewish-mens-club-a
 nnual-childrens-breakfast-1578748581\n\nOur Annual Children’s Breakfast 
 features Mad Science’s “Up\, Up and AWAY” presentation. Kids will be
  left flying high as they learn about pressure as the Mad Scientist explai
 ns how the weight of the earth’s atmosphere pushes down on them with the
  force of an elephant! They’ll explore how Bernoulli’s principle creat
 es enough lift to make a jumbo jet fly or how air pressure can be used to 
 launch a hot air balloon. Our kids will watch in amazement as the Mad Scie
 ntist’s vortex gen...
DTSTART;TZID=America/New_York:20200301T093000
DTEND;TZID=America/New_York:20200301T113000
END:VEVENT
END:VCALENDAR
