BEGIN:VCALENDAR
PRODID:-//eluceo/ical//2.0/EN
VERSION:2.0
CALSCALE:GREGORIAN
BEGIN:VEVENT
UID:af95926a4a4f3bccc95bcda3fddc7325
DTSTAMP:20260422T082850Z
SUMMARY:Southern New Hampshire Jewish Men's Club Breakfast
DESCRIPTION:Jewish Federation of New Hampshire\nCommunity Calendar\nhttps:/
 /jewishnh.org/community-calendar/southern-new-hampshire-jewish-mens-club-b
 reakfast\n\nSouthern New Hampshire Jewish Men's Club Breakfast\n9:30 AM\, 
 Temple Beth Abraham\, Nashua\n\nThe speaker will be Ron Bruckman and he wi
 ll discuss his trip to Germany for an extended family reunion and memorial
  for a girl whose necklace was found by archeologists in Sobibor. Cost: $8
  for Men's Club Members\, $12 for non-members. RSVP not necessary but pref
 erred due to food ordering. More information: www.snhjmc.org
DTSTART;TZID=America/New_York:20180415T093000
DTEND;TZID=America/New_York:20180415T103000
END:VEVENT
END:VCALENDAR
