BEGIN:VCALENDAR
PRODID:-//eluceo/ical//2.0/EN
VERSION:2.0
CALSCALE:GREGORIAN
BEGIN:VEVENT
UID:6650815001d9abf984168ed4abc76a61
DTSTAMP:20260422T112348Z
SUMMARY:Southern New Hampshire Men's Club Blood Drive
DESCRIPTION:Jewish Federation of New Hampshire\nCommunity Calendar\nhttps:/
 /jewishnh.org/community-calendar/southern-new-hampshire-mens-club-blood-dr
 ive-1633907835\n\nEvery two seconds\, someone in the U.S. needs blood.  By
  rolling up your sleeve\, you can play a critical role in the treatment of
  accident and burn victims\, heart surgery and organ transplant patients\,
  premature babies\, trauma victims and those receiving treatment for leuke
 mia\, cancer or sickle cell disease.
DTSTART;TZID=America/New_York:20211028T140000
DTEND;TZID=America/New_York:20211028T190000
END:VEVENT
END:VCALENDAR
