BEGIN:VCALENDAR
PRODID:-//eluceo/ical//2.0/EN
VERSION:2.0
CALSCALE:GREGORIAN
BEGIN:VEVENT
UID:7bb63f46590b20576a8b117ad9d33f64
DTSTAMP:20260422T065653Z
SUMMARY:Southern NH Jewish Men's Club Breakfast
DESCRIPTION:Jewish Federation of New Hampshire\nCommunity Calendar\nhttps:/
 /jewishnh.org/community-calendar/southern-nh-jewish-mens-club-breakfast-15
 53875976\n\nThe Men's Club will be joined by their own Dr. Bill Goodman wh
 o will enlighten attendees with a discussion on the "Top Issues In Men's H
 ealth - Besides E.D.". Dr. Goodman will address common health problems tha
 t impact men and what can be done to prevent\, recognize\, and manage them
 . An important topic for us all! \n\nAs always\, they will kick off break
 fast at 9:30 a.m. The Men's Club kitchen crew will be preparing a sumptuou
 s feast of eggs\, potatoes\, bagels\, lox\, and whitefish salad with acc..
 .
DTSTART;TZID=America/New_York:20190407T093000
DTEND;TZID=America/New_York:20190407T110000
END:VEVENT
END:VCALENDAR
