BEGIN:VCALENDAR
PRODID:-//eluceo/ical//2.0/EN
VERSION:2.0
CALSCALE:GREGORIAN
BEGIN:VEVENT
UID:f927cdaaa08c2e6c06cfc3acb1b68667
DTSTAMP:20260422T071025Z
SUMMARY:Southern NH Jewish Men's Club Political Breakfast
DESCRIPTION:Jewish Federation of New Hampshire\nCommunity Calendar\nhttps:/
 /jewishnh.org/community-calendar/southern-nh-jewish-mens-club-political-br
 eakfast-1602422310\n\nTown Hall Style Political Breakfast (LIVE Via Zoom) 
 moderated by Rabbi Jon Spira-Savett. Scheduled to appear are Dan Feltes\, 
 Corky Messner\, Jeanne Shaheen\, Matt Mowers\, Chris Pappas\, Steve Negron
  and Annie Kuster. Each Candidate will have 15 minutes to address their Co
 nstituents followed by a 15 minute Question and Answer session. Rabbi Jon 
 will determine which submitted questions will be presented to the candidat
 es. Attendees may submit their questions via chat to Rabbi Jon at any poin
 t once...
DTSTART;TZID=America/New_York:20201018T090000
DTEND;TZID=America/New_York:20201018T120000
END:VEVENT
END:VCALENDAR
