BEGIN:VCALENDAR
PRODID:-//eluceo/ical//2.0/EN
VERSION:2.0
CALSCALE:GREGORIAN
BEGIN:VEVENT
UID:49f37ca91567ac0e144df6317ce5f001
DTSTAMP:20260424T202827Z
SUMMARY:Star of David Challah Make & Take
DESCRIPTION:Jewish Federation of New Hampshire\nCommunity Calendar\nhttps:/
 /jewishnh.org/community-calendar/star-of-david-challah-make-take\n\nJewish
  Federation of New Hampshire invites you to come learn to make your own St
 ar of David shaped challahs!\n\nJoin us at JFNH to show our support for Is
 rael by learning how to braid Star of David shaped challahs for Shabbat. W
 e'll begin by making the dough together (ingredients provided). Then Dina
 h Berch will demonstrate two different ways to assemble a "Star of David" 
 shaped challah. Take it home to rise and bake before Shabbat! \n\nWe'll a
 lso enjoy samplings of challah while we work.\n...
DTSTART;TZID=America/New_York:20231117T103000
DTEND;TZID=America/New_York:20231117T120000
END:VEVENT
END:VCALENDAR
