BEGIN:VCALENDAR
PRODID:-//eluceo/ical//2.0/EN
VERSION:2.0
CALSCALE:GREGORIAN
BEGIN:VEVENT
UID:6e75212680a6df31033bee09cb28cfc3
DTSTAMP:20260423T010554Z
SUMMARY:State House Menorah Lighting
DESCRIPTION:Jewish Federation of New Hampshire\nCommunity Calendar\nhttps:/
 /jewishnh.org/community-calendar/state-house-menorah-lighting-1607486173\n
 \nMenorah lighting every night of Chanukah at the State House. First night
  at 4:00pm lit by a First Responder. Times will vary during the rest of Ch
 anukah. Call Chabad to find out times on the rest of the Chanukah nights.
DTSTART;TZID=America/New_York:20201210T160000
DTEND;TZID=America/New_York:20201217T160000
END:VEVENT
END:VCALENDAR
