BEGIN:VCALENDAR
PRODID:-//eluceo/ical//2.0/EN
VERSION:2.0
CALSCALE:GREGORIAN
BEGIN:VEVENT
UID:e2177265d897d08018692fd4010938c2
DTSTAMP:20260423T005822Z
SUMMARY:Stories and Songs of Community Gratitude: An Interfaith Gathering
DESCRIPTION:Jewish Federation of New Hampshire\nCommunity Calendar\nhttps:/
 /jewishnh.org/community-calendar/stories-and-songs\n\nLet's all come toget
 her for a unique interfaith community event:\n\nInterfaith Thanksgiving Pr
 ogram: Stories of Community Gratitude\n\nHosted by North Church at Market 
 Square and the Portsmouth Ministerium\n\n6:00-6:30 pm Outdoor Music\, Sing
 -a-long and Storytelling Led by members of several faith communities incl
 uding Rabba Kaya and Fran Berman.\n\n6:30-7:00pm Inside North Church: Comm
 unity Gratitude Activities\, Music and Storytelling\n\nMasks required. Ple
 ase bring non-perishable food items...
DTSTART;TZID=America/New_York:20211118T180000
DTEND;TZID=America/New_York:20211118T190000
END:VEVENT
END:VCALENDAR
