BEGIN:VCALENDAR
PRODID:-//eluceo/ical//2.0/EN
VERSION:2.0
CALSCALE:GREGORIAN
BEGIN:VEVENT
UID:1b52d23d41c137d4d7e41cfe6407ad3f
DTSTAMP:20260422T231843Z
SUMMARY:Story Time and Chanukah Celebration with Illustrator Jill Weber
DESCRIPTION:Jewish Federation of New Hampshire\nCommunity Calendar\nhttps:/
 /jewishnh.org/community-calendar/story-time-and-chanukah-celebration-with-
 illustrator-jill-weber\n\nJoin PJ Library Illustrator Jill Weber as she sh
 ares her newest book Goodnight Bubbala by Sheryl Haft during a Story Time 
 and Chanukah Celebration!\n\nJill will be signing copies of the book\, cre
 ate paper puppets\, make edible dreidels and play Yiddish Charades!\n\nPle
 ase register by December 11th.
DTSTART;TZID=America/New_York:20191215T140000
DTEND;TZID=America/New_York:20191215T160000
END:VEVENT
END:VCALENDAR
