BEGIN:VCALENDAR
PRODID:-//eluceo/ical//2.0/EN
VERSION:2.0
CALSCALE:GREGORIAN
BEGIN:VEVENT
UID:5c9b9970df339ead4a54d26ef15dda34
DTSTAMP:20260422T183500Z
SUMMARY:Strawbery Banke 4th of July with the Raymond Street Klezmer Band
DESCRIPTION:Jewish Federation of New Hampshire\nCommunity Calendar\nhttps:/
 /jewishnh.org/community-calendar/strawbery-banke-4th-of-july-with-the-raym
 ond-street-klezmer-band\n\nThe Raymond Street Klezmer Band will be playing
  at the 20th Anniversary Celebration of the Shapiro house. Admission is fr
 ee. Light refreshments from Bubby's Delicatessen in Portsmouth. Special to
 urs of the Shapiro House. Please RSVP for a parking pass to Stephanie Seac
 ord at sseacord@strawberybanke.org
DTSTART;TZID=America/New_York:20170704T150000
DTEND;TZID=America/New_York:20170704T180000
END:VEVENT
END:VCALENDAR
