BEGIN:VCALENDAR
PRODID:-//eluceo/ical//2.0/EN
VERSION:2.0
CALSCALE:GREGORIAN
BEGIN:VEVENT
UID:01bee6ef13afb6e0fe3e97057af2225e
DTSTAMP:20260424T033630Z
SUMMARY:Sue Horowitz in Concert
DESCRIPTION:Jewish Federation of New Hampshire\nCommunity Calendar\nhttps:/
 /jewishnh.org/community-calendar/sue-horowitz-in-concert-1699406223\n\nJoi
 n us at Temple Beth Jacob for a fun and entertaining afternoon! This conce
 rt will be ASL interpreted by EJ Cohen. With a voice as warm as honey whis
 key\, and a vibe as confident as a tree with deep roots\, Sue Horowitz wri
 tes songs about everyday struggles and joys and makes them meaningful and 
 resonant. Her stories in song are poignant\, heart-felt\, hilarious\, rous
 ing\, timely and timeless. With one foot planted firmly in the spiritual J
 ewish music world and the other in the singer-songwriter...
DTSTART;TZID=America/New_York:20231203T160000
DTEND;TZID=America/New_York:20231203T180000
END:VEVENT
END:VCALENDAR
