BEGIN:VCALENDAR
PRODID:-//eluceo/ical//2.0/EN
VERSION:2.0
CALSCALE:GREGORIAN
BEGIN:VEVENT
UID:15b76ea137c30c15eddc5a3122b042e3
DTSTAMP:20260424T105659Z
SUMMARY:Sukkot
DESCRIPTION:Jewish Federation of New Hampshire\nCommunity Calendar\nhttps:/
 /jewishnh.org/community-calendar/sukkot\n\nBegins sunset Sunday\, October
  9\, 2022\nEnds evening Sunday\, October 16\, 2022
DTSTART;TZID=America/New_York:20221009T000000
DTEND;TZID=America/New_York:20221016T235959
END:VEVENT
END:VCALENDAR
