BEGIN:VCALENDAR
PRODID:-//eluceo/ical//2.0/EN
VERSION:2.0
CALSCALE:GREGORIAN
BEGIN:VEVENT
UID:5b31dc6eef04a6e4a71e67c5160a175a
DTSTAMP:20260423T153208Z
SUMMARY:Sukkot
DESCRIPTION:Jewish Federation of New Hampshire\nCommunity Calendar\nhttps:/
 /jewishnh.org/community-calendar/sukkot-2023\n\nBegins sunset Friday\, Se
 ptember 29\, 2023\nEnds evening Friday\, October 6\, 2023
DTSTART;TZID=America/New_York:20230929T000000
DTEND;TZID=America/New_York:20231006T000000
END:VEVENT
END:VCALENDAR
