BEGIN:VCALENDAR
PRODID:-//eluceo/ical//2.0/EN
VERSION:2.0
CALSCALE:GREGORIAN
BEGIN:VEVENT
UID:03e07aa64bdeafc63c2fefc9cdd4e162
DTSTAMP:20260423T013909Z
SUMMARY:Sukkot Service and Pizza in the Hut.  RSVP by Oct 10th required.
DESCRIPTION:Jewish Federation of New Hampshire\nCommunity Calendar\nhttps:/
 /jewishnh.org/community-calendar/sukkot-service-and-pizza-in-the-hut--rsvp
 -by-oct-10th-required-1560684431\n\nSukkot Service at Temple Adath Yeshuru
 n
DTSTART;TZID=America/New_York:20191018T180000
DTEND;TZID=America/New_York:20191018T200000
END:VEVENT
END:VCALENDAR
