BEGIN:VCALENDAR
PRODID:-//eluceo/ical//2.0/EN
VERSION:2.0
CALSCALE:GREGORIAN
BEGIN:VEVENT
UID:368a01c87f060ff897c42af147cf75fa
DTSTAMP:20260423T143556Z
SUMMARY:Sukkot Teen Village: Connect\, Camp\, Explore
DESCRIPTION:Jewish Federation of New Hampshire\nCommunity Calendar\nhttps:/
 /jewishnh.org/community-calendar/sukkot-teen-village\n\nSukkot Teen Villag
 e Registration is now open for our new Teen Village at the 9th annual Suk
 kot on the Farm Festival. Teens from 12-17 will set up a camping village 
 in the forest and fields of Living Tree Alliance where they will have a ch
 ance to cook together\, explore the Jewish concept of impermanence\, share
  in relevant Jewish practices\, discover the unique role this age group of
 fers to the village and tap into the festival's music and community offeri
 ngs. Led by Kohenet Yepeth Perla from ...
DTSTART;TZID=America/New_York:20221015T143000
DTEND;TZID=America/New_York:20221016T130000
END:VEVENT
END:VCALENDAR
