BEGIN:VCALENDAR
PRODID:-//eluceo/ical//2.0/EN
VERSION:2.0
CALSCALE:GREGORIAN
BEGIN:VEVENT
UID:367eab479dbb74c810622e66aafbb721
DTSTAMP:20260422T111327Z
SUMMARY:Sukkot Teen Village Retreat: Connect\, Harvest\, Build!
DESCRIPTION:Jewish Federation of New Hampshire\nCommunity Calendar\nhttps:/
 /jewishnh.org/community-calendar/sukkot-teen-village-retreat-connect-harve
 st-build\n\nFor the second year\, teens will create their own space amidst
  the music and festivities of the 10th annual Sukkot on the Farm. Teens ag
 es 12-17 will set up a camping village in the forest and fields of Living 
 Tree Alliance\, where they will have a chance to cook together\, explore t
 he Sukkot concept of impermanence\, and tap into the festival’s music an
 d harvest activities. This is a camping retreat\, with camping in the Sukk
 ah or in tents. Food is provided and gear is available to borrow. Last...
DTSTART;TZID=America/New_York:20230930T140000
DTEND;TZID=America/New_York:20231001T130000
END:VEVENT
END:VCALENDAR
