BEGIN:VCALENDAR
PRODID:-//eluceo/ical//2.0/EN
VERSION:2.0
CALSCALE:GREGORIAN
BEGIN:VEVENT
UID:48b46dd736b98d3fc992bb9a7ae83bfb
DTSTAMP:20260422T063206Z
SUMMARY:Sunday Funday
DESCRIPTION:Jewish Federation of New Hampshire\nCommunity Calendar\nhttps:/
 /jewishnh.org/community-calendar/sunday-funday-1665174595\n\nJoin use for 
 "Grown Up and Me" time to learn songs and Jewish traditions. Open to child
 ren ages 3-6 and their caregiver. Both temple members and nonmembers are w
 elcome! No cost to attend.
DTSTART;TZID=America/New_York:20221113T093000
DTEND;TZID=America/New_York:20221113T113000
END:VEVENT
END:VCALENDAR
