BEGIN:VCALENDAR
PRODID:-//eluceo/ical//2.0/EN
VERSION:2.0
CALSCALE:GREGORIAN
BEGIN:VEVENT
UID:9e59145bb25f57c84e4757745bcf1db2
DTSTAMP:20260424T071303Z
SUMMARY:Sunday Funday
DESCRIPTION:Jewish Federation of New Hampshire\nCommunity Calendar\nhttps:/
 /jewishnh.org/community-calendar/sunday-funday-1670937263\n\nJoin us for 
 “Grown Up and Me” time for you and your child to sing songs and learn 
 Jewish traditions!\nOpen to children ages 3-6 and their caregivers\, Both 
 temple members and nonmembers are welcome!\nNo cost to attend – no RSVP 
 needed.
DTSTART;TZID=America/New_York:20230108T093000
DTEND;TZID=America/New_York:20230108T101500
END:VEVENT
END:VCALENDAR
