BEGIN:VCALENDAR
PRODID:-//eluceo/ical//2.0/EN
VERSION:2.0
CALSCALE:GREGORIAN
BEGIN:VEVENT
UID:fc351c9705c3087476ce00de292ae49b
DTSTAMP:20260424T211523Z
SUMMARY:Temple Israel Sunday Funday
DESCRIPTION:Jewish Federation of New Hampshire\nCommunity Calendar\nhttps:/
 /jewishnh.org/community-calendar/sunday-funday-1698429087\n\nNonmembers we
 lcome!\nCommon Courtesy- Respect (Derekh Eretz) & Bringing Peace Between P
 eople (Hava'at Shalom Bayn Adam L'Havero) .\n\nDescription of session: Tod
 ay Raba! Thank you very much! We will sing and dance. We will play games w
 hich give everyone a chance to give and receive. We will practice gratitud
 e & discuss how to share peace while enjoying a snack together.\n\nNo RSVP
  needed.
DTSTART;TZID=America/New_York:20231119T093000
DTEND;TZID=America/New_York:20231119T101500
END:VEVENT
END:VCALENDAR
