BEGIN:VCALENDAR
PRODID:-//eluceo/ical//2.0/EN
VERSION:2.0
CALSCALE:GREGORIAN
BEGIN:VEVENT
UID:d538ce9167d0cb1c0b8266ffd71ceb99
DTSTAMP:20260424T030057Z
SUMMARY:Supporting the Bereaved: Jewish Funeral and Mourning Practices
DESCRIPTION:Jewish Federation of New Hampshire\nCommunity Calendar\nhttps:/
 /jewishnh.org/community-calendar/supporting-the-bereaved-jewish-funeral-an
 d-mourning-practices-1672951897\n\nPlease join Temple Israel\, Portsmouth\
 , to explore the many rituals and traditions concerning the Jewish funeral
  and our mourning practices. Study of foundational texts and underlying sp
 iritual principles will broaden our understanding of how and why our tradi
 tions have developed. Gain clarity on what to expect when a loved one dies
  and how you will be supported by clergy\, the funeral home\, and your syn
 agogue community.\n\nThis session is a follow-up to “Supporting the Soul
 \, A Chevra Kadisha...
DTSTART;TZID=America/New_York:20230126T110000
DTEND;TZID=America/New_York:20230126T123000
END:VEVENT
END:VCALENDAR
