BEGIN:VCALENDAR
PRODID:-//eluceo/ical//2.0/EN
VERSION:2.0
CALSCALE:GREGORIAN
BEGIN:VEVENT
UID:3bd0f9624f6a56dba8eb601cc02dad80
DTSTAMP:20260424T000020Z
SUMMARY:Supporting the Soul: A Chevra Kadisha Workshop
DESCRIPTION:Jewish Federation of New Hampshire\nCommunity Calendar\nhttps:/
 /jewishnh.org/community-calendar/supporting-the-soul-a-chevra-kadisha-work
 shop-1668114236\n\nJudaism is often lauded for its sensitive and helpful t
 raditions surrounding mourning and care for the bereaved. Yet much less is
  commonly known about the sacred tasks of caring for the deceased between 
 the time of death and burial. The Chevra Kadisha/Jewish Burial Society\, a
  group of anonymous volunteers\, is entrusted with these tasks. These part
 icular traditions are rooted in Jewish teachings regarding the journey of 
 the soul and the obligation of the living to respectfully care for the dec
 ...
DTSTART;TZID=America/New_York:20221208T110000
DTEND;TZID=America/New_York:20221208T123000
END:VEVENT
END:VCALENDAR
