BEGIN:VCALENDAR
PRODID:-//eluceo/ical//2.0/EN
VERSION:2.0
CALSCALE:GREGORIAN
BEGIN:VEVENT
UID:62996a3e24728e2a300f208f5f9349cc
DTSTAMP:20260424T231733Z
SUMMARY:Surviving Evil: The Holocaust Through the Story of Stephan H. Lewy
DESCRIPTION:Jewish Federation of New Hampshire\nCommunity Calendar\nhttps:/
 /jewishnh.org/community-calendar/surviving-evil\n\nSurviving Evil: The Hol
 ocaust Through the Story of Stephan H. Lewy\, a Manchester Community Theat
 re Players/Pack of Dogs production\, was awarded the Grand Prize in Hollyw
 ood’s prestigious Golden State Film Festival on March 26\, 2021. This sh
 ort historical documentary is based on the life of long-time Manchester NH
  resident Stephan Lewy. The film chronicles Stephan’s escape from the Na
 zis\, his time in hiding in France\, his escape to the United States after
  the occupation of France\, and his ...
DTSTART;TZID=America/New_York:20221109T000000
DTEND;TZID=America/New_York:20221109T133100
END:VEVENT
END:VCALENDAR
