BEGIN:VCALENDAR
PRODID:-//eluceo/ical//2.0/EN
VERSION:2.0
CALSCALE:GREGORIAN
BEGIN:VEVENT
UID:c3f35564ae4f25148976c46dddf82f11
DTSTAMP:20260423T222801Z
SUMMARY:Surviving Evil:  Documentary Film
DESCRIPTION:Jewish Federation of New Hampshire\nCommunity Calendar\nhttps:/
 /jewishnh.org/community-calendar/surviving-evil--documentary-film-16030558
 36\n\nManchester Community Theatre Players (MCTP)\, in cooperation with Te
 mple Adath Yeshurun\, will present the short film documentary Surviving Ev
 il: The Holocaust through the story of Stephan H. Lewy on Monday November 
 9th as a virtual presentation. Stephen was born in 1925 in Berlin and expe
 rienced the anti-Jewish sentiment as Hitler rose to power. Surviving Evil 
 chronicles Stephan’s escape from the Nazis\, his time in hiding in Franc
 e\, his escape to the United States after the occupation of Fra...
DTSTART;TZID=America/New_York:20201109T193000
DTEND;TZID=America/New_York:20201109T213000
END:VEVENT
END:VCALENDAR
