BEGIN:VCALENDAR
PRODID:-//eluceo/ical//2.0/EN
VERSION:2.0
CALSCALE:GREGORIAN
BEGIN:VEVENT
UID:1c98a23f5b7557f2116d3705e607c5f7
DTSTAMP:20260422T223932Z
SUMMARY:“Systemic Racism: The United States and Nazi Race Law”
DESCRIPTION:Jewish Federation of New Hampshire\nCommunity Calendar\nhttps:/
 /jewishnh.org/community-calendar/systemic-racism-the-united-states-and-naz
 i-race-law-1574725899\n\nThomas White\, MA from the Cohen Center for Holoc
 aust and Genocide Studies presents how did Hitler and the Nazis utilize Am
 erican precedents\, including the U.S. eugenics movement\, to shape and fo
 rmulate their own race laws. As racism\, Nazism\, the KKK\, and the “alt
 -right” have emerged as significant societal factors\, this lecture will
  explore American precedents and reactions to Nazi Germany then and now. I
 n September 1933\, Hitler ordered a memorandum from Prussia Ministry of th
 e Interior d...
DTSTART;TZID=America/New_York:20191205T190000
DTEND;TZID=America/New_York:20191205T203000
END:VEVENT
END:VCALENDAR
