BEGIN:VCALENDAR
PRODID:-//eluceo/ical//2.0/EN
VERSION:2.0
CALSCALE:GREGORIAN
BEGIN:VEVENT
UID:d6c9801ecbba04297b703b829195a0c5
DTSTAMP:20260422T231124Z
SUMMARY:Talking to Candidates About Antisemitism and Zionism
DESCRIPTION:Jewish Federation of New Hampshire\nCommunity Calendar\nhttps:/
 /jewishnh.org/community-calendar/talking-to-candidates-about-antisemitism-
 and-zionism-1574876787\n\nCountdown to the Primary: Talking to Candidates 
 about Antisemitism and Zionism with Carly Pildis\n\nCarly Pildis has dedic
 ated her career to fighting for justice and equality on a global and natio
 nal scale. She is an outspoken advocate against rising anti-Semitism. She 
 works for Tikkun Olam\, healing a broken world\, through advocacy\, organi
 zing\, and writing.\n\nShe currently serves as Director of Grassroots Orga
 nizing for Zioness and as a Contributing Editor for Tablet Magazine. She h
 as served...
DTSTART;TZID=America/New_York:20191210T183000
DTEND;TZID=America/New_York:20191210T200000
END:VEVENT
END:VCALENDAR
