BEGIN:VCALENDAR
PRODID:-//eluceo/ical//2.0/EN
VERSION:2.0
CALSCALE:GREGORIAN
BEGIN:VEVENT
UID:19d87b737214e0a97d119dbde1487c4a
DTSTAMP:20260423T054208Z
SUMMARY:Talking to Children about Antisemitism
DESCRIPTION:Jewish Federation of New Hampshire\nCommunity Calendar\nhttps:/
 /jewishnh.org/community-calendar/talking-to-children-about-antisemitism\n\
 nJoin us for an important program. Dr. Samantha Vinokor-Meinrath\, author 
 of #antisemitism: Coming of Age During the Resurgence of Hate\, will offe
 r suggestions and answer questions about how to talk to children about ant
 isemitism. Additional resources will be provided. The program is free\, an
 d everyone is welcome. For more information\, please email Lynne@LappinFo
 undation.org.
DTSTART;TZID=America/New_York:20230518T193000
DTEND;TZID=America/New_York:20230518T210000
END:VEVENT
END:VCALENDAR
