BEGIN:VCALENDAR
PRODID:-//eluceo/ical//2.0/EN
VERSION:2.0
CALSCALE:GREGORIAN
BEGIN:VEVENT
UID:9b8c52a6a828a0ca5af43d235a9dbad3
DTSTAMP:20260423T103217Z
SUMMARY:Talmud of the Heart: The Power of Relationships
DESCRIPTION:Jewish Federation of New Hampshire\nCommunity Calendar\nhttps:/
 /jewishnh.org/community-calendar/talmud-of-the-heart-the-power-of-relation
 ships-1605193049\n\nClass led by Rabba Kaya Stern-Kaufman. Enjoy Talmud st
 udy with a focus on Rabbinic stories that touch the heart and reveal funda
 mental Jewish values. Thursday evenings at 7:00 pm on December 3\, Decembe
 r 17 (special Hanukkah teaching)\, January 7\, and January 21. Please cont
 act the Temple Israel Portsmouth office for Zoom link\, 603-436-5301\, tem
 pleoffice@templeisraelnh.org
DTSTART;TZID=America/New_York:20201203T190000
DTEND;TZID=America/New_York:20201203T203000
END:VEVENT
END:VCALENDAR
