BEGIN:VCALENDAR
PRODID:-//eluceo/ical//2.0/EN
VERSION:2.0
CALSCALE:GREGORIAN
BEGIN:VEVENT
UID:e1bbe17fa0ab15e9c052ac6dff79b73a
DTSTAMP:20260423T024241Z
SUMMARY:TAY Book Discussion with Dr. Nona Fienberg
DESCRIPTION:Jewish Federation of New Hampshire\nCommunity Calendar\nhttps:/
 /jewishnh.org/community-calendar/tay-book-discussion-with-dr-nona-fienberg
 -1676043127\n\nAll are welcome to join our Zoom discussion.\nPlease regist
 er in advance to office@taynh.org or by calling the Temple Office at 603.6
 69.5650.
DTSTART;TZID=America/New_York:20230321T190000
DTEND;TZID=America/New_York:20230321T210000
END:VEVENT
END:VCALENDAR
