BEGIN:VCALENDAR
PRODID:-//eluceo/ical//2.0/EN
VERSION:2.0
CALSCALE:GREGORIAN
BEGIN:VEVENT
UID:fab7ead17bfb480480df98d7d74fb78c
DTSTAMP:20260422T082623Z
SUMMARY:TAY Brotherhood Deli Night-to Go!
DESCRIPTION:Jewish Federation of New Hampshire\nCommunity Calendar\nhttps:/
 /jewishnh.org/community-calendar/tay-brotherhood-deli-night-to-go-16732885
 49\n\nDeli sandwiches and sides to go.  Raffle and prizes available too!
DTSTART;TZID=America/New_York:20230319T120000
DTEND;TZID=America/New_York:20230319T140000
END:VEVENT
END:VCALENDAR
