BEGIN:VCALENDAR
PRODID:-//eluceo/ical//2.0/EN
VERSION:2.0
CALSCALE:GREGORIAN
BEGIN:VEVENT
UID:9ce50d9742c163194123bfaad9b9d1dc
DTSTAMP:20260422T111136Z
SUMMARY:TAY Brotherhood hosts  Zoom presentation by Dr. Susannah Heschel
DESCRIPTION:Jewish Federation of New Hampshire\nCommunity Calendar\nhttps:/
 /jewishnh.org/community-calendar/tay-brotherhood-hosts-zoom-presentation-b
 y-dr-susannah-heschel\n\nThe TAY Brotherhood will be hosting a Zoom presen
 tation on Sunday\, April 25\, 2021 @ 10am by Dr. Susannah Heschel\, Direct
 or of Dartmouth’s Jewish Studies Program.\n\nShe will be telling us abou
 t the Program. \n\nZoom information 968 736 1024:15203104
DTSTART;TZID=America/New_York:20210425T100000
DTEND;TZID=America/New_York:20210425T120000
END:VEVENT
END:VCALENDAR
