BEGIN:VCALENDAR
PRODID:-//eluceo/ical//2.0/EN
VERSION:2.0
CALSCALE:GREGORIAN
BEGIN:VEVENT
UID:9ef7c742f51886762d92efa66dbf0e4a
DTSTAMP:20260425T160711Z
SUMMARY:TAY Brotherhood Zoom Program - The Manchester Wall of Fame
DESCRIPTION:Jewish Federation of New Hampshire\nCommunity Calendar\nhttps:/
 /jewishnh.org/community-calendar/tay-brotherhood-zoom-program\n\nTopic: Th
 e Manchester Wall of Fame\n\n Presented by John Clayton\, Executive Dire
 ctor of the  Manchester Historical Society\n\n ZOOM contact information
  – 968 736 1024: 15203104
DTSTART;TZID=America/New_York:20210516T100000
DTEND;TZID=America/New_York:20210516T120000
END:VEVENT
END:VCALENDAR
