BEGIN:VCALENDAR
PRODID:-//eluceo/ical//2.0/EN
VERSION:2.0
CALSCALE:GREGORIAN
BEGIN:VEVENT
UID:477d1b64220b5084341888269669405f
DTSTAMP:20260424T030532Z
SUMMARY:TAY Brotherhood Zoom Program: The Edward M. Chase Legacy
DESCRIPTION:Jewish Federation of New Hampshire\nCommunity Calendar\nhttps:/
 /jewishnh.org/community-calendar/tay-brotherhood-zoom-program-the-edward-m
 -chase-legacy-1648236020\n\nAuthor Terry Nelson presents the life of the l
 ate Manchester businessman Edward M. Chase\, who Terry describes as an “
 incredible man”. Mr. Chase came to Manchester in the 1880’s and went o
 n to own a furniture store and have many real estate holdings. He had a ke
 en sense of social responsibility that led him to build houses for his wor
 kers\, philanthropic efforts in his native Lithuania and funding of a Chas
 e Peace Prize at Dartmouth and Harvard.\n\nPlease contact Sol Rockenmacher
  for the ...
DTSTART;TZID=America/New_York:20220522T100000
DTEND;TZID=America/New_York:20220522T113000
END:VEVENT
END:VCALENDAR
