BEGIN:VCALENDAR
PRODID:-//eluceo/ical//2.0/EN
VERSION:2.0
CALSCALE:GREGORIAN
BEGIN:VEVENT
UID:45c3730ed1626a844cc3fe19e660b765
DTSTAMP:20260423T192431Z
SUMMARY:TAY Current Events Discussion Group
DESCRIPTION:Jewish Federation of New Hampshire\nCommunity Calendar\nhttps:/
 /jewishnh.org/community-calendar/tay-current-events-discussion-group-16987
 69746\n\nJoin us in meaningful conversation about current events. Sharing 
 perspectives\, facts\, and information\, we will learn together and consid
 er our role and responsibility as reflected in our Jewish teachings and tr
 aditions.\n\nNon Members are welcome.\n\nPlease RSVP to Marilyn Cavanaugh 
 at wmcavanaugh@comcast.net or Pat Kalik at patkalik@comcast.net.\n\nThe ZO
 OM Link and Topic will be sent out after RSVP.
DTSTART;TZID=America/New_York:20231128T190000
DTEND;TZID=America/New_York:20231128T201500
END:VEVENT
END:VCALENDAR
