BEGIN:VCALENDAR
PRODID:-//eluceo/ical//2.0/EN
VERSION:2.0
CALSCALE:GREGORIAN
BEGIN:VEVENT
UID:31ff6cda7af6e3b5840f907dd9a43d60
DTSTAMP:20260422T211622Z
SUMMARY:TBA - Celebrating Trans & Non-Binary Jews: A Panel Discussion
DESCRIPTION:Jewish Federation of New Hampshire\nCommunity Calendar\nhttps:/
 /jewishnh.org/community-calendar/tba---celebrating-trans--non-binary-jews-
 a-panel-discussion-1684519483\n\nCelebrating Trans & Non-Binary Jews: A Pa
 nel Discussion at Temple Beth Abraham.\n\nDr. Alisa Hurwitz will moderate 
 a panel featuring trans and non-binary Jews speaking about their experienc
 es of Jewishness as queer folks\, queer Jewish joy\, the rise in anti-tran
 s legislation\, and how to channel our Jewish values to create inclusive J
 ewish spaces.\n\n"Queer Kiddush" with vegan options will start around 12:0
 0 pm.\nThe panel discussion will start around 12:30 pm.\n\nOpen to all and
  free to attend...
DTSTART;TZID=America/New_York:20230610T120000
DTEND;TZID=America/New_York:20230610T133000
END:VEVENT
END:VCALENDAR
