BEGIN:VCALENDAR
PRODID:-//eluceo/ical//2.0/EN
VERSION:2.0
CALSCALE:GREGORIAN
BEGIN:VEVENT
UID:15bdf8bcfd426504cbf7038067831100
DTSTAMP:20260422T192958Z
SUMMARY:TBA at the Nashua Pride Parade and Festival
DESCRIPTION:Jewish Federation of New Hampshire\nCommunity Calendar\nhttps:/
 /jewishnh.org/community-calendar/tba-at-the-nashua-pride-parade-and-festiv
 al-1685036895\n\nTBA's Tzedek Committee is Sponsoring Nashua Pride and Mar
 ching in the Pride Parade. All are welcome to join us in walking the parad
 e route up Main Street in Nashua and visiting our booth in the Nashua Publ
 ic Library parking Lot.We will have stickers\, buttons and Queer Jewish bo
 oks and resources.
DTSTART;TZID=America/New_York:20230624T140000
DTEND;TZID=America/New_York:20230624T180000
END:VEVENT
END:VCALENDAR
