BEGIN:VCALENDAR
PRODID:-//eluceo/ical//2.0/EN
VERSION:2.0
CALSCALE:GREGORIAN
BEGIN:VEVENT
UID:108055eb6cb63eab7ffdfc22b6fcb38b
DTSTAMP:20260423T013928Z
SUMMARY:TBA Community Training: Intro to LGBTQ+ Belonging for Congregations
DESCRIPTION:Jewish Federation of New Hampshire\nCommunity Calendar\nhttps:/
 /jewishnh.org/community-calendar/tba-community-training-intro-to-lgbtq-bel
 onging-for-congregations-1685037116\n\nJoin us for a community wide traini
 ng on how we can each work to create inclusive and welcoming Jewish spaces
  that include LGBTQ+ and all Jews.\n\nThis will be at Temple Beth Abraham 
 and via Zoom.\n\nFree event and open to the community.
DTSTART;TZID=America/New_York:20230625T110000
DTEND;TZID=America/New_York:20230625T130000
END:VEVENT
END:VCALENDAR
