BEGIN:VCALENDAR
PRODID:-//eluceo/ical//2.0/EN
VERSION:2.0
CALSCALE:GREGORIAN
BEGIN:VEVENT
UID:67470382be6facd64d152274eccc0991
DTSTAMP:20260422T200458Z
SUMMARY:TBA Keter Shem Tov Award
DESCRIPTION:Jewish Federation of New Hampshire\nCommunity Calendar\nhttps:/
 /jewishnh.org/community-calendar/tba-keter-shem-tov-award-1565714842\n\nCo
 me help us celebrate Alan Green as he is presented with this year's Keter 
 Shem Tov Award at Shabbat services and the kiddush luncheon following on S
 eptember 7\, 2019.   The Raymond Street Klezmer Band will be playing at 
 the luncheon which will make the event even more festive.  Alan will also
  be honored at Jewish Federation's Annual Meeting on September 15\, when t
 hey present their Shem Tov Awards.\n\nYou can read about Alan's many quali
 fications for this award here .\n\nPlease consider ma...
DTSTART;TZID=America/New_York:20190907T093000
DTEND;TZID=America/New_York:20190907T123000
END:VEVENT
END:VCALENDAR
