BEGIN:VCALENDAR
PRODID:-//eluceo/ical//2.0/EN
VERSION:2.0
CALSCALE:GREGORIAN
BEGIN:VEVENT
UID:0196a37927fc443e0fcda77b9be81cb9
DTSTAMP:20260423T114724Z
SUMMARY:TBA Presents: Dartmouth Jewish Sound Archive
DESCRIPTION:Jewish Federation of New Hampshire\nCommunity Calendar\nhttps:/
 /jewishnh.org/community-calendar/tba-presents-dartmouth-jewish-sound-archi
 ve-1666312010\n\nClick here for more information: www.tbanashua.org/events
 /dartmouth-jewish-sound-archive/
DTSTART;TZID=America/New_York:20221204T150000
DTEND;TZID=America/New_York:20221204T170000
END:VEVENT
END:VCALENDAR
