BEGIN:VCALENDAR
PRODID:-//eluceo/ical//2.0/EN
VERSION:2.0
CALSCALE:GREGORIAN
BEGIN:VEVENT
UID:105dcec8059820409afc17265e270129
DTSTAMP:20260423T032208Z
SUMMARY:TBA Shavuot Community Event
DESCRIPTION:Jewish Federation of New Hampshire\nCommunity Calendar\nhttps:/
 /jewishnh.org/community-calendar/tba-shavuot-community-event-1652447560\n\
 nJoin us as we celebrate Shavuot under the tent through a variety of inter
 active stations fit for all ages! Enjoy Sub Zero ice cream frozen for you 
 on the spot\, hear the Ten Commandments\, be at Mt. Sinai through a role p
 lay activity\, and more! Event is free and all are welcome.
DTSTART;TZID=America/New_York:20220605T160000
DTEND;TZID=America/New_York:20220605T173000
END:VEVENT
END:VCALENDAR
