BEGIN:VCALENDAR
PRODID:-//eluceo/ical//2.0/EN
VERSION:2.0
CALSCALE:GREGORIAN
BEGIN:VEVENT
UID:1e98a7693eeb88a5f5ab73ba11759653
DTSTAMP:20260423T143652Z
SUMMARY:TBA Sisterhood Mah Jongg Tournament
DESCRIPTION:Jewish Federation of New Hampshire\nCommunity Calendar\nhttps:/
 /jewishnh.org/community-calendar/tba-sisterhood-mah-jongg-tournament-15814
 45834\n\nGames! Snacks! Prizes! Fun for all levels! Instructions for newbi
 es!$10 for Sisterhood Members\, $18 for non-members.Questions/RSVP Robin R
 ubin at litlrube@gmail.com
DTSTART;TZID=America/New_York:20200322T123000
DTEND;TZID=America/New_York:20200322T173000
END:VEVENT
END:VCALENDAR
