BEGIN:VCALENDAR
PRODID:-//eluceo/ical//2.0/EN
VERSION:2.0
CALSCALE:GREGORIAN
BEGIN:VEVENT
UID:2b5ce8c7b6e24a05dc0a8f743e15065b
DTSTAMP:20260422T094501Z
SUMMARY:Temple Beth Abraham Yedidim Backyard Havdalah Event
DESCRIPTION:Jewish Federation of New Hampshire\nCommunity Calendar\nhttps:/
 /jewishnh.org/community-calendar/tba-yedidim-backyard-havdalah-event-15991
 83092\n\nJoin us for a Yedidim (families with children ages 3-10) backyard
  Havdalah event (weather permitting) . Bring your masks and food for your 
 family's consumption (no potluck due to health and safety guidelines). Soc
 ial distancing will be followed. Register at www.tbanashua.org/yedidim or 
 contact Sarit@tbanashua.org\n\nAddress will be provided upon registration
DTSTART;TZID=America/New_York:20201003T170000
DTEND;TZID=America/New_York:20201003T190000
END:VEVENT
END:VCALENDAR
