BEGIN:VCALENDAR
PRODID:-//eluceo/ical//2.0/EN
VERSION:2.0
CALSCALE:GREGORIAN
BEGIN:VEVENT
UID:88e4d3da3cc098d03066c7407bf4eede
DTSTAMP:20260423T152804Z
SUMMARY:TBA Young Family Shabbat
DESCRIPTION:Jewish Federation of New Hampshire\nCommunity Calendar\nhttps:/
 /jewishnh.org/community-calendar/tba-young-family-shabbat-1671561922\n\nJo
 in families with children age 0-6 in a short Shabbat morning service follo
 wed by social and play time.
DTSTART;TZID=America/New_York:20230114T100000
DTEND;TZID=America/New_York:20230114T110000
END:VEVENT
END:VCALENDAR
