BEGIN:VCALENDAR
PRODID:-//eluceo/ical//2.0/EN
VERSION:2.0
CALSCALE:GREGORIAN
BEGIN:VEVENT
UID:bda190d6948297f1b25514c982e0f929
DTSTAMP:20260424T005804Z
SUMMARY:TBA Young Family Shabbat
DESCRIPTION:Jewish Federation of New Hampshire\nCommunity Calendar\nhttps:/
 /jewishnh.org/community-calendar/tba-young-family-shabbat-1671562112\n\nJo
 in families with children age 0-6 in a short Shabbat morning service follo
 wed by social and play time.
DTSTART;TZID=America/New_York:20230422T093000
DTEND;TZID=America/New_York:20230422T110000
END:VEVENT
END:VCALENDAR
