BEGIN:VCALENDAR
PRODID:-//eluceo/ical//2.0/EN
VERSION:2.0
CALSCALE:GREGORIAN
BEGIN:VEVENT
UID:3aa5199609604bf2b0fed02a640f24b9
DTSTAMP:20260423T041704Z
SUMMARY:TBA's Sisterhood Open Mic & Fair Trade Chocolate Night
DESCRIPTION:Jewish Federation of New Hampshire\nCommunity Calendar\nhttps:/
 /jewishnh.org/community-calendar/tbas-sisterhood-open-mic--fair-trade-choc
 olate-night-1707416623\n\nJoin Temple Beth Abraham Sisterhood's Open Mic &
  Fair Trade Chocolate Night! We will have delicious chocolate\, signature 
 cocktails and fabulous entertainment.\n\nEvent cost is $18 per person.\n\n
 Register at our website\, tbanashua.org.
DTSTART;TZID=America/New_York:20240310T183000
DTEND;TZID=America/New_York:20240310T203000
END:VEVENT
END:VCALENDAR
