BEGIN:VCALENDAR
PRODID:-//eluceo/ical//2.0/EN
VERSION:2.0
CALSCALE:GREGORIAN
BEGIN:VEVENT
UID:b4dc3c25345a010a12d5771323740451
DTSTAMP:20260423T044547Z
SUMMARY:TBJ Purimshpiel: The Megillah According To Queen: We Will Rock You!
DESCRIPTION:Jewish Federation of New Hampshire\nCommunity Calendar\nhttps:/
 /jewishnh.org/community-calendar/tbj-purimshpiel-the-megillah-according-to
 -queen-we-will-rock-you-1676953652\n\nIt is that time of the year again\, 
 as winter turns to (an early?) spring\, that the TBJ Purimshpielers prepar
 e once again to lift the spirits of the community with our rendering of th
 e story of Queen Esther in musical comedy form. This year is the 26th year
  of the Temple Beth Jacob show and we are proud to present another origina
 l script\, "The Megillah According To Queen: We Will Rock You!"\, a raucou
 s and rowdy retelling of the Purim story loosely following the music and a
 ctivities of Freddy M...
DTSTART;TZID=America/New_York:20230318T200000
DTEND;TZID=America/New_York:20230319T193000
END:VEVENT
END:VCALENDAR
