BEGIN:VCALENDAR
PRODID:-//eluceo/ical//2.0/EN
VERSION:2.0
CALSCALE:GREGORIAN
BEGIN:VEVENT
UID:dfb831eeae594b5e5773cfa40514d0af
DTSTAMP:20260420T061535Z
SUMMARY:Teen Voices from Israel: Life and Learning During Wartime
DESCRIPTION:Jewish Federation of New Hampshire\nCommunity Calendar\nhttps:/
 /jewishnh.org/community-calendar/teen-voices-from-israel-life-and-learning
 -during-wartime\n\nJoin two American high school students currently studyi
 ng at Alexander Muss High School in Israel for a real-time conversation ab
 out what it’s like to be in Israel right now.
DTSTART;TZID=America/New_York:20260308T140000
DTEND;TZID=America/New_York:20260308T150000
END:VEVENT
END:VCALENDAR
