BEGIN:VCALENDAR
PRODID:-//eluceo/ical//2.0/EN
VERSION:2.0
CALSCALE:GREGORIAN
BEGIN:VEVENT
UID:6c3f9eeebd52c7a7f0c6e70ab156a36a
DTSTAMP:20260423T202213Z
SUMMARY:Temple Israel Tehillim Group
DESCRIPTION:Jewish Federation of New Hampshire\nCommunity Calendar\nhttps:/
 /jewishnh.org/community-calendar/tehillim-group-1699965118\n\nWondrous thi
 ngs happen when Psalms are read as a group! No special knowledge needed ot
 her than knowing how to read in English.
DTSTART;TZID=America/New_York:20231119T190000
DTEND;TZID=America/New_York:20231119T210000
END:VEVENT
END:VCALENDAR
