BEGIN:VCALENDAR
PRODID:-//eluceo/ical//2.0/EN
VERSION:2.0
CALSCALE:GREGORIAN
BEGIN:VEVENT
UID:52e62700451769354fb3a6e7754e5988
DTSTAMP:20260422T161914Z
SUMMARY:Temple Israel Tehillim Group
DESCRIPTION:Jewish Federation of New Hampshire\nCommunity Calendar\nhttps:/
 /jewishnh.org/community-calendar/tehillim-group-1701970845\n\nWondrous thi
 ngs happen when Psalms are read as a group!\nReading Psalms together is no
 t only a powerful\, mystical and meaningful healing tool\, but it also giv
 es us spiritual fulfillment.\nDuring this collective Jewish trauma and exc
 eptionally challenging time for Israel\, the 200+ hostages\, the people fi
 ghting and trying to survive as well as those who are grieving\, we are al
 l feeling at a loss as to how we can help. So let’s gather online from v
 arious parts of the world for a group Tehillim...
DTSTART;TZID=America/New_York:20231217T190000
DTEND;TZID=America/New_York:20231217T210000
END:VEVENT
END:VCALENDAR
