BEGIN:VCALENDAR
PRODID:-//eluceo/ical//2.0/EN
VERSION:2.0
CALSCALE:GREGORIAN
BEGIN:VEVENT
UID:a72691d07ffff95a08f7eb84283563e5
DTSTAMP:20260423T142720Z
SUMMARY:Temple Adath Yeshurun Brotherhood Candidates Breakfast
DESCRIPTION:Jewish Federation of New Hampshire\nCommunity Calendar\nhttps:/
 /jewishnh.org/community-calendar/temple-adath-yeshurun-brotherhood-candida
 tes-breakfast-1655474819\n\nWe are looking forward to once again hosting o
 ur traditional Candidates Breakfast. Stay tuned for details.
DTSTART;TZID=America/New_York:20221030T100000
DTEND;TZID=America/New_York:20221030T123000
END:VEVENT
END:VCALENDAR
